BEGIN:VCALENDAR
VERSION:2.0
PRODID:-//PTCondo.com - ECPv5.2.0//NONSGML v1.0//EN
CALSCALE:GREGORIAN
METHOD:PUBLISH
X-WR-CALNAME:PTCondo.com
X-ORIGINAL-URL:https://www.ptcondo.com
X-WR-CALDESC:Events for PTCondo.com
BEGIN:VTIMEZONE
TZID:America/Chicago
BEGIN:DAYLIGHT
TZOFFSETFROM:-0600
TZOFFSETTO:-0500
TZNAME:CDT
DTSTART:20200308T080000
END:DAYLIGHT
BEGIN:STANDARD
TZOFFSETFROM:-0500
TZOFFSETTO:-0600
TZNAME:CST
DTSTART:20201101T070000
END:STANDARD
END:VTIMEZONE
BEGIN:VEVENT
DTSTART;TZID=America/Chicago:20200605T173000
DTEND;TZID=America/Chicago:20200605T193000
DTSTAMP:20260423T083055
CREATED:20190808T121456Z
LAST-MODIFIED:20200429T123230Z
UID:13333-1591378200-1591385400@www.ptcondo.com
SUMMARY:CANCELED - Social Committee: TGIF\, 5:30 to 7:30 pm\, Lobby Lounge
DESCRIPTION:
URL:https://www.ptcondo.com/calendar/social-committee-tgif-530-to-730-pm-lobby-lounge/
LOCATION:Lobby Lounge by lo-rise mailboxes
CATEGORIES:Social Event
END:VEVENT
END:VCALENDAR