BEGIN:VCALENDAR
VERSION:2.0
PRODID:-//PTCondo.com - ECPv5.2.0//NONSGML v1.0//EN
CALSCALE:GREGORIAN
METHOD:PUBLISH
X-WR-CALNAME:PTCondo.com
X-ORIGINAL-URL:https://www.ptcondo.com
X-WR-CALDESC:Events for PTCondo.com
BEGIN:VTIMEZONE
TZID:America/Chicago
BEGIN:DAYLIGHT
TZOFFSETFROM:-0600
TZOFFSETTO:-0500
TZNAME:CDT
DTSTART:20190310T080000
END:DAYLIGHT
BEGIN:STANDARD
TZOFFSETFROM:-0500
TZOFFSETTO:-0600
TZNAME:CST
DTSTART:20191103T070000
END:STANDARD
END:VTIMEZONE
BEGIN:VEVENT
DTSTART;TZID=America/Chicago:20191012T164500
DTEND;TZID=America/Chicago:20191012T200000
DTSTAMP:20260425T124700
CREATED:20190806T013313Z
LAST-MODIFIED:20190928T160241Z
UID:13310-1570898700-1570910400@www.ptcondo.com
SUMMARY:Social Committee: Movie Night\, Star Trek | The Motion Picture\, 4:45 to 8:00 pm\, Party Room
DESCRIPTION:
URL:https://www.ptcondo.com/calendar/social-committee-movie-night-title-tba-445-to-800-pm-party-room/
CATEGORIES:Social Event
END:VEVENT
END:VCALENDAR