BEGIN:VCALENDAR
VERSION:2.0
PRODID:-//PTCondo.com - ECPv5.2.0//NONSGML v1.0//EN
CALSCALE:GREGORIAN
METHOD:PUBLISH
X-WR-CALNAME:PTCondo.com
X-ORIGINAL-URL:https://www.ptcondo.com
X-WR-CALDESC:Events for PTCondo.com
BEGIN:VTIMEZONE
TZID:America/Chicago
BEGIN:DAYLIGHT
TZOFFSETFROM:-0600
TZOFFSETTO:-0500
TZNAME:CDT
DTSTART:20190310T080000
END:DAYLIGHT
BEGIN:STANDARD
TZOFFSETFROM:-0500
TZOFFSETTO:-0600
TZNAME:CST
DTSTART:20191103T070000
END:STANDARD
END:VTIMEZONE
BEGIN:VEVENT
DTSTART;TZID=America/Chicago:20190518T110000
DTEND;TZID=America/Chicago:20190518T160000
DTSTAMP:20260424T102257
CREATED:20180908T180452Z
LAST-MODIFIED:20190510T225119Z
UID:11499-1558177200-1558195200@www.ptcondo.com
SUMMARY:Social Committee Art Walk\, 11am to 4pm\, Display Locations & Details TBA
DESCRIPTION:Together w/other nearby condo buildings displaying work by their artist residents
URL:https://www.ptcondo.com/calendar/social-committee-art-walk-10am-to-4pm-display-locations-details-tba/
CATEGORIES:Social Event
END:VEVENT
END:VCALENDAR