BEGIN:VCALENDAR
VERSION:2.0
PRODID:-//PTCondo.com - ECPv5.2.0//NONSGML v1.0//EN
CALSCALE:GREGORIAN
METHOD:PUBLISH
X-WR-CALNAME:PTCondo.com
X-ORIGINAL-URL:https://www.ptcondo.com
X-WR-CALDESC:Events for PTCondo.com
BEGIN:VTIMEZONE
TZID:America/Chicago
BEGIN:DAYLIGHT
TZOFFSETFROM:-0600
TZOFFSETTO:-0500
TZNAME:CDT
DTSTART:20200308T080000
END:DAYLIGHT
BEGIN:STANDARD
TZOFFSETFROM:-0500
TZOFFSETTO:-0600
TZNAME:CST
DTSTART:20201101T070000
END:STANDARD
END:VTIMEZONE
BEGIN:VEVENT
DTSTART;TZID=America/Chicago:20200804T190000
DTEND;TZID=America/Chicago:20200804T210000
DTSTAMP:20260424T194843
CREATED:20200718T142116Z
LAST-MODIFIED:20200718T142224Z
UID:14973-1596567600-1596574800@www.ptcondo.com
SUMMARY:Social Committee: Another Conversation with Judge Martha Mills\, August 4\, 7:00 to 9:00 pm\, via Zoom
DESCRIPTION:Email S-Atovsky@sbcglobal.net for ZOOM info
URL:https://www.ptcondo.com/calendar/social-committee-another-conversation-with-judge-martha-mills-aug-4-700-to-900-pm-via-zoom/
LOCATION:via Zoom
END:VEVENT
END:VCALENDAR