BEGIN:VCALENDAR
VERSION:2.0
PRODID:-//PTCondo.com - ECPv5.2.0//NONSGML v1.0//EN
CALSCALE:GREGORIAN
METHOD:PUBLISH
X-WR-CALNAME:PTCondo.com
X-ORIGINAL-URL:https://www.ptcondo.com
X-WR-CALDESC:Events for PTCondo.com
BEGIN:VTIMEZONE
TZID:America/Chicago
BEGIN:DAYLIGHT
TZOFFSETFROM:-0600
TZOFFSETTO:-0500
TZNAME:CDT
DTSTART:20220313T080000
END:DAYLIGHT
BEGIN:STANDARD
TZOFFSETFROM:-0500
TZOFFSETTO:-0600
TZNAME:CST
DTSTART:20221106T070000
END:STANDARD
END:VTIMEZONE
BEGIN:VEVENT
DTSTART;TZID=America/Chicago:20220714T190000
DTEND;TZID=America/Chicago:20220714T200000
DTSTAMP:20260421T160317
CREATED:20220713T144400Z
LAST-MODIFIED:20220713T144709Z
UID:18993-1657825200-1657828800@www.ptcondo.com
SUMMARY:Social Commission Via ZOOM 7PM
DESCRIPTION:
URL:https://www.ptcondo.com/calendar/social-commission-via-zoom-7pm/
LOCATION:via Zoom
CATEGORIES:Committee Meeting
END:VEVENT
END:VCALENDAR