BEGIN:VCALENDAR
VERSION:2.0
PRODID:-//PTCondo.com - ECPv5.2.0//NONSGML v1.0//EN
CALSCALE:GREGORIAN
METHOD:PUBLISH
X-WR-CALNAME:PTCondo.com
X-ORIGINAL-URL:https://www.ptcondo.com
X-WR-CALDESC:Events for PTCondo.com
BEGIN:VTIMEZONE
TZID:America/Chicago
BEGIN:DAYLIGHT
TZOFFSETFROM:-0600
TZOFFSETTO:-0500
TZNAME:CDT
DTSTART:20220313T080000
END:DAYLIGHT
BEGIN:STANDARD
TZOFFSETFROM:-0500
TZOFFSETTO:-0600
TZNAME:CST
DTSTART:20221106T070000
END:STANDARD
END:VTIMEZONE
BEGIN:VEVENT
DTSTART;TZID=America/Chicago:20220315T110000
DTEND;TZID=America/Chicago:20220315T120000
DTSTAMP:20260423T163119
CREATED:20220228T165258Z
LAST-MODIFIED:20220228T165258Z
UID:18339-1647342000-1647345600@www.ptcondo.com
SUMMARY:Social Commission Meeting 11am
DESCRIPTION:Via Zoom
URL:https://www.ptcondo.com/calendar/social-commission-meeting-11am-6/
LOCATION:via Zoom
CATEGORIES:Committee Meeting,Social Event
END:VEVENT
END:VCALENDAR