BEGIN:VCALENDAR
VERSION:2.0
PRODID:-//PTCondo.com - ECPv5.2.0//NONSGML v1.0//EN
CALSCALE:GREGORIAN
METHOD:PUBLISH
X-WR-CALNAME:PTCondo.com
X-ORIGINAL-URL:https://www.ptcondo.com
X-WR-CALDESC:Events for PTCondo.com
BEGIN:VTIMEZONE
TZID:America/Chicago
BEGIN:DAYLIGHT
TZOFFSETFROM:-0600
TZOFFSETTO:-0500
TZNAME:CDT
DTSTART:20210314T080000
END:DAYLIGHT
BEGIN:STANDARD
TZOFFSETFROM:-0500
TZOFFSETTO:-0600
TZNAME:CST
DTSTART:20211107T070000
END:STANDARD
END:VTIMEZONE
BEGIN:VEVENT
DTSTART;TZID=America/Chicago:20210505T110000
DTEND;TZID=America/Chicago:20210505T120000
DTSTAMP:20260421T160237
CREATED:20210414T180133Z
LAST-MODIFIED:20210422T172922Z
UID:16384-1620212400-1620216000@www.ptcondo.com
SUMMARY:Social Commission Meeting 11am
DESCRIPTION:Time: May 5\, 2021 11:00 AM Central Time (US and Canada) \nJoin Zoom Meeting \nJoin our Cloud HD Video Meeting \n  \n\n\n\n\n\n\n\n\n\n\n\n\n\nJoin our Cloud HD Video Meeting\nZoom is the leader in modern enterprise video communications\, with an easy\, reliable cloud platform for video an…\n\n\n\n\n\n\n\n\n\n\n\nMeeting ID: 816 9768 5776 \nPasscode: 969193 \nOne tap mobile \n+13126266799\,\,81697685776#\,\,\,\,*969193# US (Chicago) \n+13017158592\,\,81697685776#\,\,\,\,*969193# US (Washington DC) \n  \nDial by your location \n+1 312 626 6799 US (Chicago) \n+1 301 715 8592 US (Washington DC) \n+1 929 205 6099 US (New York) \n+1 669 900 6833 US (San Jose) \n+1 253 215 8782 US (Tacoma) \n+1 346 248 7799 US (Houston) \nMeeting ID: 816 9768 5776 \nPasscode: 969193
URL:https://www.ptcondo.com/calendar/social-commission-meeting-11am-4/
LOCATION:via Zoom
CATEGORIES:Committee Meeting
END:VEVENT
END:VCALENDAR