BEGIN:VCALENDAR
VERSION:2.0
PRODID:-//PTCondo.com - ECPv5.2.0//NONSGML v1.0//EN
CALSCALE:GREGORIAN
METHOD:PUBLISH
X-WR-CALNAME:PTCondo.com
X-ORIGINAL-URL:https://www.ptcondo.com
X-WR-CALDESC:Events for PTCondo.com
BEGIN:VTIMEZONE
TZID:America/Chicago
BEGIN:DAYLIGHT
TZOFFSETFROM:-0600
TZOFFSETTO:-0500
TZNAME:CDT
DTSTART:20200308T080000
END:DAYLIGHT
BEGIN:STANDARD
TZOFFSETFROM:-0500
TZOFFSETTO:-0600
TZNAME:CST
DTSTART:20201101T070000
END:STANDARD
END:VTIMEZONE
BEGIN:VEVENT
DTSTART;TZID=America/Chicago:20200819T110000
DTEND;TZID=America/Chicago:20200819T120000
DTSTAMP:20260424T135730
CREATED:20200724T164744Z
LAST-MODIFIED:20200724T164744Z
UID:15018-1597834800-1597838400@www.ptcondo.com
SUMMARY:Social Commission Meeting 11am
DESCRIPTION:Join Zoom Meeting with this link: \nhttps://us02web.zoom.us/j/84720290511?pwd=Sm9acDgvdUpVODB3V1Q0bThwSnpnZz09 \n  \nJoin with your app: \nMeeting ID: 847 2029 0511 \nPasscode: Social \n  \nOne tap mobile: \n+13126266799\,\,84720290511#\,\,\,\,\,\,0#\,\,801036# US (Chicago) \n  \nDial with a phone: \n+1 312 626 6799 US (Chicago) \nMeeting ID: 847 2029 0511 \nPasscode: 801036
URL:https://www.ptcondo.com/calendar/social-commission-meeting-11am-2/
LOCATION:via Zoom
CATEGORIES:Committee Meeting,Social Event
END:VEVENT
END:VCALENDAR