BEGIN:VCALENDAR
VERSION:2.0
PRODID:-//PTCondo.com - ECPv5.2.0//NONSGML v1.0//EN
CALSCALE:GREGORIAN
METHOD:PUBLISH
X-WR-CALNAME:PTCondo.com
X-ORIGINAL-URL:https://www.ptcondo.com
X-WR-CALDESC:Events for PTCondo.com
BEGIN:VTIMEZONE
TZID:America/Chicago
BEGIN:DAYLIGHT
TZOFFSETFROM:-0600
TZOFFSETTO:-0500
TZNAME:CDT
DTSTART:20210314T080000
END:DAYLIGHT
BEGIN:STANDARD
TZOFFSETFROM:-0500
TZOFFSETTO:-0600
TZNAME:CST
DTSTART:20211107T070000
END:STANDARD
END:VTIMEZONE
BEGIN:VEVENT
DTSTART;VALUE=DATE:20210504
DTEND;VALUE=DATE:20210505
DTSTAMP:20260421T180015
CREATED:20210312T201650Z
LAST-MODIFIED:20210312T201650Z
UID:16266-1620086400-1620172799@www.ptcondo.com
SUMMARY:Scout 47 and 46
DESCRIPTION:Floor by floor bed bug inspections.
URL:https://www.ptcondo.com/calendar/scout-47-and-46-5/
CATEGORIES:Bed Bug Inspections
END:VEVENT
END:VCALENDAR