BEGIN:VCALENDAR
VERSION:2.0
PRODID:-//PTCondo.com - ECPv5.2.0//NONSGML v1.0//EN
CALSCALE:GREGORIAN
METHOD:PUBLISH
X-WR-CALNAME:PTCondo.com
X-ORIGINAL-URL:https://www.ptcondo.com
X-WR-CALDESC:Events for PTCondo.com
BEGIN:VTIMEZONE
TZID:America/Chicago
BEGIN:DAYLIGHT
TZOFFSETFROM:-0600
TZOFFSETTO:-0500
TZNAME:CDT
DTSTART:20210314T080000
END:DAYLIGHT
BEGIN:STANDARD
TZOFFSETFROM:-0500
TZOFFSETTO:-0600
TZNAME:CST
DTSTART:20211107T070000
END:STANDARD
END:VTIMEZONE
BEGIN:VEVENT
DTSTART;TZID=America/Chicago:20210422T183000
DTEND;TZID=America/Chicago:20210422T193000
DTSTAMP:20260424T063233
CREATED:20210421T171033Z
LAST-MODIFIED:20210421T200330Z
UID:16432-1619116200-1619119800@www.ptcondo.com
SUMMARY:Resident Workshop - Chemical Free Cleaning 6:30pm
DESCRIPTION:Thursday April 22nd – 6:30pm Spring Cleaning Without Using Toxic Chemicals \nDuring this one hour workshop resident Margaret Hoban will educate attendees on how to make cleaning your homes easier and save time. Clean without toxic chemicals\, and help take part in saving the environment. Margaret will explain how using Norwex microfiber cloths can be used to clean your home with just water\, including window cloths that leave a streak free shine on anything that needs polishing – with just water! Meeting ID #830-0441-6750 (CORRECTED) Invite Link https://us02web.zoom.us/j/83004416750 \n 
URL:https://www.ptcondo.com/calendar/resident-workshop-chemical-free-cleaning-630pm/
LOCATION:via Zoom
CATEGORIES:Resident Event
END:VEVENT
END:VCALENDAR