BEGIN:VCALENDAR
VERSION:2.0
PRODID:-//PTCondo.com - ECPv5.2.0//NONSGML v1.0//EN
CALSCALE:GREGORIAN
METHOD:PUBLISH
X-WR-CALNAME:PTCondo.com
X-ORIGINAL-URL:https://www.ptcondo.com
X-WR-CALDESC:Events for PTCondo.com
BEGIN:VTIMEZONE
TZID:America/Chicago
BEGIN:DAYLIGHT
TZOFFSETFROM:-0600
TZOFFSETTO:-0500
TZNAME:CDT
DTSTART:20210314T080000
END:DAYLIGHT
BEGIN:STANDARD
TZOFFSETFROM:-0500
TZOFFSETTO:-0600
TZNAME:CST
DTSTART:20211107T070000
END:STANDARD
END:VTIMEZONE
BEGIN:VEVENT
DTSTART;TZID=America/Chicago:20210221T110000
DTEND;TZID=America/Chicago:20210221T120000
DTSTAMP:20260424T090331
CREATED:20210122T175852Z
LAST-MODIFIED:20210122T180218Z
UID:15903-1613905200-1613908800@www.ptcondo.com
SUMMARY:New Resident Welcome Meeting
DESCRIPTION:PTCA New Resident Meeting 02.21.21 \nNew Resident Welcome Meeting \nFeb 21\, 2021 11:00 AM Central Time (US and Canada) \nMeeting ID  # 849 6127 0047 \nhttps://us02web.zoom.us/j/84961270047
URL:https://www.ptcondo.com/calendar/new-resident-welcome-meeting/
LOCATION:via Zoom
CATEGORIES:Committee Meeting
END:VEVENT
END:VCALENDAR