BEGIN:VCALENDAR
VERSION:2.0
PRODID:-//PTCondo.com - ECPv5.2.0//NONSGML v1.0//EN
CALSCALE:GREGORIAN
METHOD:PUBLISH
X-WR-CALNAME:PTCondo.com
X-ORIGINAL-URL:https://www.ptcondo.com
X-WR-CALDESC:Events for PTCondo.com
BEGIN:VTIMEZONE
TZID:America/Chicago
BEGIN:DAYLIGHT
TZOFFSETFROM:-0600
TZOFFSETTO:-0500
TZNAME:CDT
DTSTART:20230312T080000
END:DAYLIGHT
BEGIN:STANDARD
TZOFFSETFROM:-0500
TZOFFSETTO:-0600
TZNAME:CST
DTSTART:20231105T070000
END:STANDARD
END:VTIMEZONE
BEGIN:VEVENT
DTSTART;VALUE=DATE:20230116
DTEND;VALUE=DATE:20230117
DTSTAMP:20260421T040138
CREATED:20230110T201641Z
LAST-MODIFIED:20230110T201641Z
UID:19853-1673827200-1673913599@www.ptcondo.com
SUMMARY:Martin Luther King Jr Day - Office Closed
DESCRIPTION:
URL:https://www.ptcondo.com/calendar/martin-luther-king-jr-day-office-closed/
LOCATION:Management Office
CATEGORIES:Office Hours
END:VEVENT
END:VCALENDAR