BEGIN:VCALENDAR
VERSION:2.0
PRODID:-//PTCondo.com - ECPv5.2.0//NONSGML v1.0//EN
CALSCALE:GREGORIAN
METHOD:PUBLISH
X-WR-CALNAME:PTCondo.com
X-ORIGINAL-URL:https://www.ptcondo.com
X-WR-CALDESC:Events for PTCondo.com
BEGIN:VTIMEZONE
TZID:America/Chicago
BEGIN:DAYLIGHT
TZOFFSETFROM:-0600
TZOFFSETTO:-0500
TZNAME:CDT
DTSTART:20210314T080000
END:DAYLIGHT
BEGIN:STANDARD
TZOFFSETFROM:-0500
TZOFFSETTO:-0600
TZNAME:CST
DTSTART:20211107T070000
END:STANDARD
END:VTIMEZONE
BEGIN:VEVENT
DTSTART;TZID=America/Chicago:20210505T180000
DTEND;TZID=America/Chicago:20210505T190000
DTSTAMP:20260421T142106
CREATED:20210329T175719Z
LAST-MODIFIED:20210414T180841Z
UID:16331-1620237600-1620241200@www.ptcondo.com
SUMMARY:Home Improvement Commission Meeting 6pm
DESCRIPTION:  \nPTCA Home Improvement Commission Meeting 05.05.21 \nMonthly Meeting \nMay 5\, 2021 06:00 PM Central Time (US and Canada) \nMeeting ID  #844 8057 6349 \nInvite Link  https://us02web.zoom.us/j/84480576349
URL:https://www.ptcondo.com/calendar/home-improvement-commission-meeting-6pm-3/
LOCATION:via Zoom
CATEGORIES:Committee Meeting
END:VEVENT
END:VCALENDAR