BEGIN:VCALENDAR
VERSION:2.0
PRODID:-//PTCondo.com - ECPv5.2.0//NONSGML v1.0//EN
CALSCALE:GREGORIAN
METHOD:PUBLISH
X-WR-CALNAME:PTCondo.com
X-ORIGINAL-URL:https://www.ptcondo.com
X-WR-CALDESC:Events for PTCondo.com
BEGIN:VTIMEZONE
TZID:America/Chicago
BEGIN:DAYLIGHT
TZOFFSETFROM:-0600
TZOFFSETTO:-0500
TZNAME:CDT
DTSTART:20230312T080000
END:DAYLIGHT
BEGIN:STANDARD
TZOFFSETFROM:-0500
TZOFFSETTO:-0600
TZNAME:CST
DTSTART:20231105T070000
END:STANDARD
END:VTIMEZONE
BEGIN:VEVENT
DTSTART;VALUE=DATE:20231219
DTEND;VALUE=DATE:20231220
DTSTAMP:20260422T032001
CREATED:20231121T162046Z
LAST-MODIFIED:20231121T162046Z
UID:21915-1702944000-1703030399@www.ptcondo.com
SUMMARY:Harper K9 Inspections - Floors 4 & 3
DESCRIPTION:Bed bug inspections
URL:https://www.ptcondo.com/calendar/harper-k9-inspections-floors-4-3/
CATEGORIES:Bed Bug Inspections
END:VEVENT
END:VCALENDAR