BEGIN:VCALENDAR
VERSION:2.0
PRODID:-//PTCondo.com - ECPv5.2.0//NONSGML v1.0//EN
CALSCALE:GREGORIAN
METHOD:PUBLISH
X-WR-CALNAME:PTCondo.com
X-ORIGINAL-URL:https://www.ptcondo.com
X-WR-CALDESC:Events for PTCondo.com
BEGIN:VTIMEZONE
TZID:America/Chicago
BEGIN:DAYLIGHT
TZOFFSETFROM:-0600
TZOFFSETTO:-0500
TZNAME:CDT
DTSTART:20240310T080000
END:DAYLIGHT
BEGIN:STANDARD
TZOFFSETFROM:-0500
TZOFFSETTO:-0600
TZNAME:CST
DTSTART:20241103T070000
END:STANDARD
END:VTIMEZONE
BEGIN:VEVENT
DTSTART;VALUE=DATE:20240905
DTEND;VALUE=DATE:20240906
DTSTAMP:20260419T145040
CREATED:20240723T171333Z
LAST-MODIFIED:20240723T171333Z
UID:23425-1725494400-1725580799@www.ptcondo.com
SUMMARY:General Pest Control 47-46
DESCRIPTION:
URL:https://www.ptcondo.com/calendar/general-pest-control-47-46/
CATEGORIES:Exterminating
END:VEVENT
END:VCALENDAR