BEGIN:VCALENDAR
VERSION:2.0
PRODID:-//PTCondo.com - ECPv5.2.0//NONSGML v1.0//EN
CALSCALE:GREGORIAN
METHOD:PUBLISH
X-WR-CALNAME:PTCondo.com
X-ORIGINAL-URL:https://www.ptcondo.com
X-WR-CALDESC:Events for PTCondo.com
BEGIN:VTIMEZONE
TZID:America/Chicago
BEGIN:DAYLIGHT
TZOFFSETFROM:-0600
TZOFFSETTO:-0500
TZNAME:CDT
DTSTART:20240310T080000
END:DAYLIGHT
BEGIN:STANDARD
TZOFFSETFROM:-0500
TZOFFSETTO:-0600
TZNAME:CST
DTSTART:20241103T070000
END:STANDARD
END:VTIMEZONE
BEGIN:VEVENT
DTSTART;VALUE=DATE:20240516
DTEND;VALUE=DATE:20240517
DTSTAMP:20260422T150707
CREATED:20240305T165031Z
LAST-MODIFIED:20240305T165031Z
UID:22526-1715817600-1715903999@www.ptcondo.com
SUMMARY:General Pest Control 17-16
DESCRIPTION:
URL:https://www.ptcondo.com/calendar/general-pest-control-17-16-2/
CATEGORIES:Exterminating
END:VEVENT
END:VCALENDAR