BEGIN:VCALENDAR
VERSION:2.0
PRODID:-//PTCondo.com - ECPv5.2.0//NONSGML v1.0//EN
CALSCALE:GREGORIAN
METHOD:PUBLISH
X-WR-CALNAME:PTCondo.com
X-ORIGINAL-URL:https://www.ptcondo.com
X-WR-CALDESC:Events for PTCondo.com
BEGIN:VTIMEZONE
TZID:America/Chicago
BEGIN:DAYLIGHT
TZOFFSETFROM:-0600
TZOFFSETTO:-0500
TZNAME:CDT
DTSTART:20210314T080000
END:DAYLIGHT
BEGIN:STANDARD
TZOFFSETFROM:-0500
TZOFFSETTO:-0600
TZNAME:CST
DTSTART:20211107T070000
END:STANDARD
END:VTIMEZONE
BEGIN:VEVENT
DTSTART;TZID=America/Chicago:20210723T080000
DTEND;TZID=America/Chicago:20210723T170000
DTSTAMP:20260422T042253
CREATED:20210602T195142Z
LAST-MODIFIED:20210602T195223Z
UID:16650-1627027200-1627059600@www.ptcondo.com
SUMMARY:Exterminator 54
DESCRIPTION:
URL:https://www.ptcondo.com/calendar/exterminator-54-3/
CATEGORIES:Exterminating
END:VEVENT
END:VCALENDAR