BEGIN:VCALENDAR
VERSION:2.0
PRODID:-//PTCondo.com - ECPv5.2.0//NONSGML v1.0//EN
CALSCALE:GREGORIAN
METHOD:PUBLISH
X-WR-CALNAME:PTCondo.com
X-ORIGINAL-URL:https://www.ptcondo.com
X-WR-CALDESC:Events for PTCondo.com
BEGIN:VTIMEZONE
TZID:America/Chicago
BEGIN:DAYLIGHT
TZOFFSETFROM:-0600
TZOFFSETTO:-0500
TZNAME:CDT
DTSTART:20240310T080000
END:DAYLIGHT
BEGIN:STANDARD
TZOFFSETFROM:-0500
TZOFFSETTO:-0600
TZNAME:CST
DTSTART:20241103T070000
END:STANDARD
END:VTIMEZONE
BEGIN:VEVENT
DTSTART;VALUE=DATE:20240904
DTEND;VALUE=DATE:20240905
DTSTAMP:20260419T165141
CREATED:20240827T182811Z
LAST-MODIFIED:20240827T182811Z
UID:23697-1725408000-1725494399@www.ptcondo.com
SUMMARY:Elevator Reserved 1 to 5pm
DESCRIPTION:
URL:https://www.ptcondo.com/calendar/elevator-reserved-1-to-5pm-340/
LOCATION:Service Elevator
CATEGORIES:Elevator Reservation
END:VEVENT
END:VCALENDAR