BEGIN:VCALENDAR
VERSION:2.0
PRODID:-//PTCondo.com - ECPv5.2.0//NONSGML v1.0//EN
CALSCALE:GREGORIAN
METHOD:PUBLISH
X-WR-CALNAME:PTCondo.com
X-ORIGINAL-URL:https://www.ptcondo.com
X-WR-CALDESC:Events for PTCondo.com
BEGIN:VTIMEZONE
TZID:America/Chicago
BEGIN:DAYLIGHT
TZOFFSETFROM:-0600
TZOFFSETTO:-0500
TZNAME:CDT
DTSTART:20210314T080000
END:DAYLIGHT
BEGIN:STANDARD
TZOFFSETFROM:-0500
TZOFFSETTO:-0600
TZNAME:CST
DTSTART:20211107T070000
END:STANDARD
END:VTIMEZONE
BEGIN:VEVENT
DTSTART;TZID=America/Chicago:20210126T160000
DTEND;TZID=America/Chicago:20210126T170000
DTSTAMP:20260424T155852
CREATED:20210117T182559Z
LAST-MODIFIED:20210117T182806Z
UID:15873-1611676800-1611680400@www.ptcondo.com
SUMMARY:Health Club Commission Meeting 4pm
DESCRIPTION:Health Club Commission Meeting January 26th 4pm
URL:https://www.ptcondo.com/calendar/health-club-commission-meeting-4pm/
LOCATION:via Zoom
CATEGORIES:Committee Meeting
END:VEVENT
END:VCALENDAR