BEGIN:VCALENDAR
VERSION:2.0
PRODID:-//PTCondo.com - ECPv5.2.0//NONSGML v1.0//EN
CALSCALE:GREGORIAN
METHOD:PUBLISH
X-WR-CALNAME:PTCondo.com
X-ORIGINAL-URL:https://www.ptcondo.com
X-WR-CALDESC:Events for PTCondo.com
BEGIN:VTIMEZONE
TZID:America/Chicago
BEGIN:DAYLIGHT
TZOFFSETFROM:-0600
TZOFFSETTO:-0500
TZNAME:CDT
DTSTART:20210314T080000
END:DAYLIGHT
BEGIN:STANDARD
TZOFFSETFROM:-0500
TZOFFSETTO:-0600
TZNAME:CST
DTSTART:20211107T070000
END:STANDARD
END:VTIMEZONE
BEGIN:VEVENT
DTSTART;TZID=America/Chicago:20210208T193000
DTEND;TZID=America/Chicago:20210208T203000
DTSTAMP:20260424T090332
CREATED:20210122T180807Z
LAST-MODIFIED:20210122T181037Z
UID:15908-1612812600-1612816200@www.ptcondo.com
SUMMARY:Board Meeting 7:30PM
DESCRIPTION:PTCA Board of Directors Meeting 02.08.21\n\n\nDescription \nMonth Board Meeting\n\n\n\nFeb 8\, 2021 07:30 PM Central Time (US and Canada)\n\n\nMeeting ID 843 4440 2518\n\n\n\n\n https://us02web.zoom.us/j/84344402518
URL:https://www.ptcondo.com/calendar/board-meeting-730pm-31/
LOCATION:via Zoom
CATEGORIES:Board Meetings
END:VEVENT
END:VCALENDAR