BEGIN:VCALENDAR
VERSION:2.0
PRODID:-//PTCondo.com - ECPv5.2.0//NONSGML v1.0//EN
CALSCALE:GREGORIAN
METHOD:PUBLISH
X-WR-CALNAME:PTCondo.com
X-ORIGINAL-URL:https://www.ptcondo.com
X-WR-CALDESC:Events for PTCondo.com
BEGIN:VTIMEZONE
TZID:America/Chicago
BEGIN:DAYLIGHT
TZOFFSETFROM:-0600
TZOFFSETTO:-0500
TZNAME:CDT
DTSTART:20210314T080000
END:DAYLIGHT
BEGIN:STANDARD
TZOFFSETFROM:-0500
TZOFFSETTO:-0600
TZNAME:CST
DTSTART:20211107T070000
END:STANDARD
END:VTIMEZONE
BEGIN:VEVENT
DTSTART;TZID=America/Chicago:20210308T193000
DTEND;TZID=America/Chicago:20210308T203000
DTSTAMP:20260423T080258
CREATED:20210124T192642Z
LAST-MODIFIED:20210124T192642Z
UID:15947-1615231800-1615235400@www.ptcondo.com
SUMMARY:Board Meeting 7:30pm
DESCRIPTION:
URL:https://www.ptcondo.com/calendar/board-meeting-730pm-30/
LOCATION:via Zoom
CATEGORIES:Board Meetings
END:VEVENT
END:VCALENDAR