BEGIN:VCALENDAR
VERSION:2.0
PRODID:-//PTCondo.com - ECPv5.2.0//NONSGML v1.0//EN
CALSCALE:GREGORIAN
METHOD:PUBLISH
X-WR-CALNAME:PTCondo.com
X-ORIGINAL-URL:https://www.ptcondo.com
X-WR-CALDESC:Events for PTCondo.com
BEGIN:VTIMEZONE
TZID:America/Chicago
BEGIN:DAYLIGHT
TZOFFSETFROM:-0600
TZOFFSETTO:-0500
TZNAME:CDT
DTSTART:20240310T080000
END:DAYLIGHT
BEGIN:STANDARD
TZOFFSETFROM:-0500
TZOFFSETTO:-0600
TZNAME:CST
DTSTART:20241103T070000
END:STANDARD
END:VTIMEZONE
BEGIN:VEVENT
DTSTART;VALUE=DATE:20241213
DTEND;VALUE=DATE:20241214
DTSTAMP:20260421T054346
CREATED:20241206T214539Z
LAST-MODIFIED:20241206T214539Z
UID:24169-1734048000-1734134399@www.ptcondo.com
SUMMARY:Office Closed 12pm - PTCA Staff Holiday Party
DESCRIPTION:
URL:https://www.ptcondo.com/calendar/office-closed-12pm-ptca-staff-holiday-party/
LOCATION:Management Office
CATEGORIES:Office Hours
END:VEVENT
END:VCALENDAR