BEGIN:VCALENDAR
VERSION:2.0
PRODID:-//PTCondo.com - ECPv5.2.0//NONSGML v1.0//EN
CALSCALE:GREGORIAN
METHOD:PUBLISH
X-WR-CALNAME:PTCondo.com
X-ORIGINAL-URL:https://www.ptcondo.com
X-WR-CALDESC:Events for PTCondo.com
BEGIN:VTIMEZONE
TZID:America/Chicago
BEGIN:DAYLIGHT
TZOFFSETFROM:-0600
TZOFFSETTO:-0500
TZNAME:CDT
DTSTART:20240310T080000
END:DAYLIGHT
BEGIN:STANDARD
TZOFFSETFROM:-0500
TZOFFSETTO:-0600
TZNAME:CST
DTSTART:20241103T070000
END:STANDARD
END:VTIMEZONE
BEGIN:VEVENT
DTSTART;TZID=America/Chicago:20241209T080000
DTEND;TZID=America/Chicago:20241212T170000
DTSTAMP:20260421T054352
CREATED:20241206T221219Z
LAST-MODIFIED:20241206T221219Z
UID:24185-1733731200-1734022800@www.ptcondo.com
SUMMARY:Garage Power Wash
DESCRIPTION:Seasonal Garage Power Wash Scheduled Dec. 9th-12th
URL:https://www.ptcondo.com/calendar/garage-power-wash/
LOCATION:Garage
CATEGORIES:Garage,Major Project
END:VEVENT
BEGIN:VEVENT
DTSTART;VALUE=DATE:20241212
DTEND;VALUE=DATE:20241213
DTSTAMP:20260421T054352
CREATED:20241206T214450Z
LAST-MODIFIED:20241206T214450Z
UID:24167-1733961600-1734047999@www.ptcondo.com
SUMMARY:Office Closed 4pm - Habitat Holiday Event
DESCRIPTION:
URL:https://www.ptcondo.com/calendar/office-closed-4pm-habitat-holiday-event/
LOCATION:Management Office
CATEGORIES:Office Hours
END:VEVENT
BEGIN:VEVENT
DTSTART;VALUE=DATE:20241212
DTEND;VALUE=DATE:20241213
DTSTAMP:20260421T054352
CREATED:20241206T221025Z
LAST-MODIFIED:20241206T221025Z
UID:24181-1733961600-1734047999@www.ptcondo.com
SUMMARY:General Pest Control 33\, 32 & 31
DESCRIPTION:
URL:https://www.ptcondo.com/calendar/general-pest-control-33-32-31/
CATEGORIES:Exterminating
END:VEVENT
END:VCALENDAR