BEGIN:VCALENDAR
VERSION:2.0
PRODID:-//PTCondo.com - ECPv5.2.0//NONSGML v1.0//EN
CALSCALE:GREGORIAN
METHOD:PUBLISH
X-WR-CALNAME:PTCondo.com
X-ORIGINAL-URL:https://www.ptcondo.com
X-WR-CALDESC:Events for PTCondo.com
BEGIN:VTIMEZONE
TZID:America/Chicago
BEGIN:DAYLIGHT
TZOFFSETFROM:-0600
TZOFFSETTO:-0500
TZNAME:CDT
DTSTART:20240310T080000
END:DAYLIGHT
BEGIN:STANDARD
TZOFFSETFROM:-0500
TZOFFSETTO:-0600
TZNAME:CST
DTSTART:20241103T070000
END:STANDARD
END:VTIMEZONE
BEGIN:VEVENT
DTSTART;VALUE=DATE:20241008
DTEND;VALUE=DATE:20241009
DTSTAMP:20260421T082205
CREATED:20240613T144300Z
LAST-MODIFIED:20240613T144300Z
UID:23194-1728345600-1728431999@www.ptcondo.com
SUMMARY:Party Room Reserved 9am to 3pm
DESCRIPTION:
URL:https://www.ptcondo.com/calendar/party-room-reserved-9am-to-3pm-2/
LOCATION:2nd Floor Party Room\, 5415 N. Sheridan Rd.\, Chicago\, IL\, 60640\, United States
CATEGORIES:Party Room Reservation
GEO:41.980314;-87.654441
X-APPLE-STRUCTURED-LOCATION;VALUE=URI;X-ADDRESS=2nd Floor Party Room 5415 N. Sheridan Rd. Chicago IL 60640 United States;X-APPLE-RADIUS=500;X-TITLE=5415 N. Sheridan Rd.:geo:-87.654441,41.980314
END:VEVENT
BEGIN:VEVENT
DTSTART;VALUE=DATE:20241008
DTEND;VALUE=DATE:20241009
DTSTAMP:20260421T082205
CREATED:20240827T165616Z
LAST-MODIFIED:20240827T165616Z
UID:23657-1728345600-1728431999@www.ptcondo.com
SUMMARY:Harper Inspections 27-26
DESCRIPTION:
URL:https://www.ptcondo.com/calendar/harper-inspections-27-26-2/
LOCATION:IL
CATEGORIES:Bed Bug Inspections,Elevator Reservation
END:VEVENT
BEGIN:VEVENT
DTSTART;VALUE=DATE:20241008
DTEND;VALUE=DATE:20241009
DTSTAMP:20260421T082205
CREATED:20241002T205528Z
LAST-MODIFIED:20241002T205528Z
UID:23878-1728345600-1728431999@www.ptcondo.com
SUMMARY:Elevator Reserved 9am to 1pm
DESCRIPTION:
URL:https://www.ptcondo.com/calendar/elevator-reserved-9am-to-1pm-571/
LOCATION:Service Elevator
CATEGORIES:Elevator Reservation
END:VEVENT
END:VCALENDAR