BEGIN:VCALENDAR
VERSION:2.0
PRODID:-//PTCondo.com - ECPv5.2.0//NONSGML v1.0//EN
CALSCALE:GREGORIAN
METHOD:PUBLISH
X-WR-CALNAME:PTCondo.com
X-ORIGINAL-URL:https://www.ptcondo.com
X-WR-CALDESC:Events for PTCondo.com
BEGIN:VTIMEZONE
TZID:America/Chicago
BEGIN:DAYLIGHT
TZOFFSETFROM:-0600
TZOFFSETTO:-0500
TZNAME:CDT
DTSTART:20240310T080000
END:DAYLIGHT
BEGIN:STANDARD
TZOFFSETFROM:-0500
TZOFFSETTO:-0600
TZNAME:CST
DTSTART:20241103T070000
END:STANDARD
END:VTIMEZONE
BEGIN:VEVENT
DTSTART;VALUE=DATE:20240520
DTEND;VALUE=DATE:20240521
DTSTAMP:20260421T163745
CREATED:20240507T153351Z
LAST-MODIFIED:20240507T153351Z
UID:22942-1716163200-1716249599@www.ptcondo.com
SUMMARY:Elevator Reserved 1pm to 5pm
DESCRIPTION:
URL:https://www.ptcondo.com/calendar/elevator-reserved-1pm-to-5pm-96/
CATEGORIES:Elevator Reservation
END:VEVENT
BEGIN:VEVENT
DTSTART;VALUE=DATE:20240520
DTEND;VALUE=DATE:20240521
DTSTAMP:20260421T163745
CREATED:20240514T233426Z
LAST-MODIFIED:20240514T233426Z
UID:23004-1716163200-1716249599@www.ptcondo.com
SUMMARY:Elevator Reserved 9am to 1pm
DESCRIPTION:
URL:https://www.ptcondo.com/calendar/elevator-reserved-9am-to-1pm-546/
LOCATION:Service Elevator
CATEGORIES:Elevator Reservation
END:VEVENT
BEGIN:VEVENT
DTSTART;TZID=America/Chicago:20240520T080000
DTEND;TZID=America/Chicago:20240520T170000
DTSTAMP:20260421T163745
CREATED:20240502T170544Z
LAST-MODIFIED:20240502T170544Z
UID:22876-1716192000-1716224400@www.ptcondo.com
SUMMARY:Home Improvement Commission 6pm
DESCRIPTION:
URL:https://www.ptcondo.com/calendar/home-improvement-commission-6pm-12/
LOCATION:Service Elevator
CATEGORIES:Committee Meeting,Party Room Reservation
END:VEVENT
END:VCALENDAR