BEGIN:VCALENDAR
VERSION:2.0
PRODID:-//PTCondo.com - ECPv5.2.0//NONSGML v1.0//EN
CALSCALE:GREGORIAN
METHOD:PUBLISH
X-WR-CALNAME:PTCondo.com
X-ORIGINAL-URL:https://www.ptcondo.com
X-WR-CALDESC:Events for PTCondo.com
BEGIN:VTIMEZONE
TZID:America/Chicago
BEGIN:DAYLIGHT
TZOFFSETFROM:-0600
TZOFFSETTO:-0500
TZNAME:CDT
DTSTART:20240310T080000
END:DAYLIGHT
BEGIN:STANDARD
TZOFFSETFROM:-0500
TZOFFSETTO:-0600
TZNAME:CST
DTSTART:20241103T070000
END:STANDARD
END:VTIMEZONE
BEGIN:VEVENT
DTSTART;TZID=America/Chicago:20240228T080000
DTEND;TZID=America/Chicago:20240228T170000
DTSTAMP:20260421T200237
CREATED:20240215T193835Z
LAST-MODIFIED:20240215T193835Z
UID:22374-1709107200-1709139600@www.ptcondo.com
SUMMARY:Home Improvement Commision Mtg. 6pm
DESCRIPTION:
URL:https://www.ptcondo.com/calendar/home-improvement-commision-mtg-6pm/
LOCATION:2nd Floor Party Room\, 5415 N. Sheridan Rd.\, Chicago\, IL\, 60640\, United States
CATEGORIES:Committee Meeting,Party Room Reservation
GEO:41.980314;-87.654441
X-APPLE-STRUCTURED-LOCATION;VALUE=URI;X-ADDRESS=2nd Floor Party Room 5415 N. Sheridan Rd. Chicago IL 60640 United States;X-APPLE-RADIUS=500;X-TITLE=5415 N. Sheridan Rd.:geo:-87.654441,41.980314
END:VEVENT
BEGIN:VEVENT
DTSTART;TZID=America/Chicago:20240228T190000
DTEND;TZID=America/Chicago:20240228T200000
DTSTAMP:20260421T200237
CREATED:20240215T193556Z
LAST-MODIFIED:20240215T193621Z
UID:22371-1709146800-1709150400@www.ptcondo.com
SUMMARY:Social Commission Meeting (via ZOOM) 7pm
DESCRIPTION:
URL:https://www.ptcondo.com/calendar/social-commission-meeting-via-zoom/
LOCATION:via Zoom
CATEGORIES:Committee Meeting,Resident Event
END:VEVENT
END:VCALENDAR