BEGIN:VCALENDAR
VERSION:2.0
PRODID:-//PTCondo.com - ECPv5.2.0//NONSGML v1.0//EN
CALSCALE:GREGORIAN
METHOD:PUBLISH
X-WR-CALNAME:PTCondo.com
X-ORIGINAL-URL:https://www.ptcondo.com
X-WR-CALDESC:Events for PTCondo.com
BEGIN:VTIMEZONE
TZID:America/Chicago
BEGIN:DAYLIGHT
TZOFFSETFROM:-0600
TZOFFSETTO:-0500
TZNAME:CDT
DTSTART:20230312T080000
END:DAYLIGHT
BEGIN:STANDARD
TZOFFSETFROM:-0500
TZOFFSETTO:-0600
TZNAME:CST
DTSTART:20231105T070000
END:STANDARD
END:VTIMEZONE
BEGIN:VEVENT
DTSTART;VALUE=DATE:20231228
DTEND;VALUE=DATE:20231229
DTSTAMP:20260422T014150
CREATED:20231122T173024Z
LAST-MODIFIED:20231221T210611Z
UID:21949-1703721600-1703807999@www.ptcondo.com
SUMMARY:Elevator Reserved 9am to 5pm
DESCRIPTION:
URL:https://www.ptcondo.com/calendar/elevator-reserved-9am-to-1pm-516/
LOCATION:Service Elevator
END:VEVENT
BEGIN:VEVENT
DTSTART;TZID=America/Chicago:20231228T080000
DTEND;TZID=America/Chicago:20231228T170000
DTSTAMP:20260422T014150
CREATED:20231121T163110Z
LAST-MODIFIED:20231121T163110Z
UID:21921-1703750400-1703782800@www.ptcondo.com
SUMMARY:General Pest Control Floors 31 & 30
DESCRIPTION:
URL:https://www.ptcondo.com/calendar/general-pest-control-floors-31-30/
CATEGORIES:Exterminating
END:VEVENT
END:VCALENDAR