BEGIN:VCALENDAR
VERSION:2.0
PRODID:-//PTCondo.com - ECPv5.2.0//NONSGML v1.0//EN
CALSCALE:GREGORIAN
METHOD:PUBLISH
X-WR-CALNAME:PTCondo.com
X-ORIGINAL-URL:https://www.ptcondo.com
X-WR-CALDESC:Events for PTCondo.com
BEGIN:VTIMEZONE
TZID:America/Chicago
BEGIN:DAYLIGHT
TZOFFSETFROM:-0600
TZOFFSETTO:-0500
TZNAME:CDT
DTSTART:20230312T080000
END:DAYLIGHT
BEGIN:STANDARD
TZOFFSETFROM:-0500
TZOFFSETTO:-0600
TZNAME:CST
DTSTART:20231105T070000
END:STANDARD
END:VTIMEZONE
BEGIN:VEVENT
DTSTART;TZID=America/Chicago:20231208T080000
DTEND;TZID=America/Chicago:20231208T170000
DTSTAMP:20260422T012912
CREATED:20231121T163621Z
LAST-MODIFIED:20231121T163621Z
UID:21927-1702022400-1702054800@www.ptcondo.com
SUMMARY:HOLIDAY CHEER 5:30-7:30PM
DESCRIPTION:Expected in the Main Lobby
URL:https://www.ptcondo.com/calendar/holiday-cheer-530-730pm-2/
LOCATION:Main Lobby
CATEGORIES:Resident Event,Social Event
END:VEVENT
END:VCALENDAR