BEGIN:VCALENDAR
VERSION:2.0
PRODID:-//PTCondo.com - ECPv5.2.0//NONSGML v1.0//EN
CALSCALE:GREGORIAN
METHOD:PUBLISH
X-WR-CALNAME:PTCondo.com
X-ORIGINAL-URL:https://www.ptcondo.com
X-WR-CALDESC:Events for PTCondo.com
BEGIN:VTIMEZONE
TZID:America/Chicago
BEGIN:DAYLIGHT
TZOFFSETFROM:-0600
TZOFFSETTO:-0500
TZNAME:CDT
DTSTART:20230312T080000
END:DAYLIGHT
BEGIN:STANDARD
TZOFFSETFROM:-0500
TZOFFSETTO:-0600
TZNAME:CST
DTSTART:20231105T070000
END:STANDARD
END:VTIMEZONE
BEGIN:VEVENT
DTSTART;VALUE=DATE:20231124
DTEND;VALUE=DATE:20231125
DTSTAMP:20260422T031219
CREATED:20231116T193231Z
LAST-MODIFIED:20231116T193231Z
UID:21889-1700784000-1700870399@www.ptcondo.com
SUMMARY:Elevator Reserve 9am to 1pm
DESCRIPTION:
URL:https://www.ptcondo.com/calendar/elevator-reserve-9am-to-1pm-16/
LOCATION:Service Elevator
CATEGORIES:Elevator Reservation
END:VEVENT
BEGIN:VEVENT
DTSTART;TZID=America/Chicago:20231124T080000
DTEND;TZID=America/Chicago:20231124T170000
DTSTAMP:20260422T031219
CREATED:20230919T194456Z
LAST-MODIFIED:20230919T194456Z
UID:21531-1700812800-1700845200@www.ptcondo.com
SUMMARY:Happy Thanksgiving Office Closed
DESCRIPTION:
URL:https://www.ptcondo.com/calendar/happy-thanksgiving-office-closed-3/
LOCATION:Management Office
CATEGORIES:Office Hours
END:VEVENT
END:VCALENDAR