BEGIN:VCALENDAR
VERSION:2.0
PRODID:-//PTCondo.com - ECPv5.2.0//NONSGML v1.0//EN
CALSCALE:GREGORIAN
METHOD:PUBLISH
X-WR-CALNAME:PTCondo.com
X-ORIGINAL-URL:https://www.ptcondo.com
X-WR-CALDESC:Events for PTCondo.com
BEGIN:VTIMEZONE
TZID:America/Chicago
BEGIN:DAYLIGHT
TZOFFSETFROM:-0600
TZOFFSETTO:-0500
TZNAME:CDT
DTSTART:20230312T080000
END:DAYLIGHT
BEGIN:STANDARD
TZOFFSETFROM:-0500
TZOFFSETTO:-0600
TZNAME:CST
DTSTART:20231105T070000
END:STANDARD
END:VTIMEZONE
BEGIN:VEVENT
DTSTART;VALUE=DATE:20231024
DTEND;VALUE=DATE:20231025
DTSTAMP:20260422T045457
CREATED:20230928T195218Z
LAST-MODIFIED:20230928T195218Z
UID:21587-1698105600-1698191999@www.ptcondo.com
SUMMARY:Harper K9 Inspections - 21-20
DESCRIPTION:
URL:https://www.ptcondo.com/calendar/harper-k9-inspections-21-20/
CATEGORIES:Bed Bug Inspections
END:VEVENT
BEGIN:VEVENT
DTSTART;VALUE=DATE:20231024
DTEND;VALUE=DATE:20231025
DTSTAMP:20260422T045457
CREATED:20231018T221327Z
LAST-MODIFIED:20231018T224847Z
UID:21766-1698105600-1698191999@www.ptcondo.com
SUMMARY:Elevator Reserve 9am to 5pm
DESCRIPTION:
URL:https://www.ptcondo.com/calendar/elevator-reserve-9am-to-1pm-14/
LOCATION:Service Elevator
CATEGORIES:Elevator Reservation
END:VEVENT
BEGIN:VEVENT
DTSTART;TZID=America/Chicago:20231024T080000
DTEND;TZID=America/Chicago:20231024T170000
DTSTAMP:20260422T045457
CREATED:20230929T143706Z
LAST-MODIFIED:20230929T143953Z
UID:21613-1698134400-1698166800@www.ptcondo.com
SUMMARY:Social Commission 7pm
DESCRIPTION:
URL:https://www.ptcondo.com/calendar/social-commission-7pm/
LOCATION:via Zoom
CATEGORIES:Committee Meeting
END:VEVENT
END:VCALENDAR