BEGIN:VCALENDAR
VERSION:2.0
PRODID:-//PTCondo.com - ECPv5.2.0//NONSGML v1.0//EN
CALSCALE:GREGORIAN
METHOD:PUBLISH
X-WR-CALNAME:PTCondo.com
X-ORIGINAL-URL:https://www.ptcondo.com
X-WR-CALDESC:Events for PTCondo.com
BEGIN:VTIMEZONE
TZID:America/Chicago
BEGIN:DAYLIGHT
TZOFFSETFROM:-0600
TZOFFSETTO:-0500
TZNAME:CDT
DTSTART:20230312T080000
END:DAYLIGHT
BEGIN:STANDARD
TZOFFSETFROM:-0500
TZOFFSETTO:-0600
TZNAME:CST
DTSTART:20231105T070000
END:STANDARD
END:VTIMEZONE
BEGIN:VEVENT
DTSTART;VALUE=DATE:20231011
DTEND;VALUE=DATE:20231012
DTSTAMP:20260422T045524
CREATED:20230922T134047Z
LAST-MODIFIED:20230922T134047Z
UID:21549-1696982400-1697068799@www.ptcondo.com
SUMMARY:Elevator Reserved 9am to 1pm
DESCRIPTION:
URL:https://www.ptcondo.com/calendar/elevator-reserved-9am-to-1pm-507/
LOCATION:Service Elevator
CATEGORIES:Elevator Reservation
END:VEVENT
BEGIN:VEVENT
DTSTART;TZID=America/Chicago:20231011T190000
DTEND;TZID=America/Chicago:20231011T200000
DTSTAMP:20260422T045524
CREATED:20230929T141845Z
LAST-MODIFIED:20230929T141845Z
UID:21609-1697050800-1697054400@www.ptcondo.com
SUMMARY:New Resident Meeting 7pm Via ZOOM
DESCRIPTION:Topic: New Resident Meeting\nTime: Oct 11\, 2023 07:00 PM Central Time (US and Canada) \nJoin Zoom Meeting\nhttps://us02web.zoom.us/j/82507478611?pwd=MWRkWkNhMmtURGU0cmFVYkYxUE9jdz09 \nMeeting ID: 825 0747 8611\nPasscode: 727704
URL:https://www.ptcondo.com/calendar/new-resident-meeting-7pm-via-zoom-2/
LOCATION:via Zoom
CATEGORIES:Committee Meeting
END:VEVENT
END:VCALENDAR