BEGIN:VCALENDAR
VERSION:2.0
PRODID:-//PTCondo.com - ECPv5.2.0//NONSGML v1.0//EN
CALSCALE:GREGORIAN
METHOD:PUBLISH
X-WR-CALNAME:PTCondo.com
X-ORIGINAL-URL:https://www.ptcondo.com
X-WR-CALDESC:Events for PTCondo.com
BEGIN:VTIMEZONE
TZID:America/Chicago
BEGIN:DAYLIGHT
TZOFFSETFROM:-0600
TZOFFSETTO:-0500
TZNAME:CDT
DTSTART:20230312T080000
END:DAYLIGHT
BEGIN:STANDARD
TZOFFSETFROM:-0500
TZOFFSETTO:-0600
TZNAME:CST
DTSTART:20231105T070000
END:STANDARD
END:VTIMEZONE
BEGIN:VEVENT
DTSTART;TZID=America/Chicago:20230910T110000
DTEND;TZID=America/Chicago:20230910T120000
DTSTAMP:20260422T063453
CREATED:20230831T184901Z
LAST-MODIFIED:20230831T185126Z
UID:21301-1694343600-1694347200@www.ptcondo.com
SUMMARY:New Resident Welcome Meeting 11am
DESCRIPTION:PTCA New Residents Meeting 09.10.23 \nSep 10\, 2023 11:00 AM Central Time (US and Canada) \nMeeting ID# 838 4499 1899 \nInvite Link https://us02web.zoom.us/j/83844991899
URL:https://www.ptcondo.com/calendar/new-resident-welcome-meeting-11am-3/
LOCATION:via Zoom
CATEGORIES:Resident Event
END:VEVENT
END:VCALENDAR