BEGIN:VCALENDAR
VERSION:2.0
PRODID:-//PTCondo.com - ECPv5.2.0//NONSGML v1.0//EN
CALSCALE:GREGORIAN
METHOD:PUBLISH
X-WR-CALNAME:PTCondo.com
X-ORIGINAL-URL:https://www.ptcondo.com
X-WR-CALDESC:Events for PTCondo.com
BEGIN:VTIMEZONE
TZID:America/Chicago
BEGIN:DAYLIGHT
TZOFFSETFROM:-0600
TZOFFSETTO:-0500
TZNAME:CDT
DTSTART:20230312T080000
END:DAYLIGHT
BEGIN:STANDARD
TZOFFSETFROM:-0500
TZOFFSETTO:-0600
TZNAME:CST
DTSTART:20231105T070000
END:STANDARD
END:VTIMEZONE
BEGIN:VEVENT
DTSTART;TZID=America/Chicago:20230714T080000
DTEND;TZID=America/Chicago:20230714T170000
DTSTAMP:20260422T095636
CREATED:20230714T161942Z
LAST-MODIFIED:20230714T161942Z
UID:20955-1689321600-1689354000@www.ptcondo.com
SUMMARY:Elevator Reserved 9am 1pm
DESCRIPTION:
URL:https://www.ptcondo.com/calendar/elevator-reserved-9am-1pm-2/
LOCATION:Service Elevator
CATEGORIES:Elevator Reservation
END:VEVENT
BEGIN:VEVENT
DTSTART;TZID=America/Chicago:20230714T110000
DTEND;TZID=America/Chicago:20230714T110000
DTSTAMP:20260422T095636
CREATED:20230710T191935Z
LAST-MODIFIED:20230710T191935Z
UID:20880-1689332400-1689332400@www.ptcondo.com
SUMMARY:Social Commission Meeting 11am
DESCRIPTION:
URL:https://www.ptcondo.com/calendar/social-commission-meeting-11am-8/
LOCATION:via Zoom
CATEGORIES:Committee Meeting,Social Event
END:VEVENT
END:VCALENDAR