BEGIN:VCALENDAR
VERSION:2.0
PRODID:-//PTCondo.com - ECPv5.2.0//NONSGML v1.0//EN
CALSCALE:GREGORIAN
METHOD:PUBLISH
X-WR-CALNAME:PTCondo.com
X-ORIGINAL-URL:https://www.ptcondo.com
X-WR-CALDESC:Events for PTCondo.com
BEGIN:VTIMEZONE
TZID:America/Chicago
BEGIN:DAYLIGHT
TZOFFSETFROM:-0600
TZOFFSETTO:-0500
TZNAME:CDT
DTSTART:20230312T080000
END:DAYLIGHT
BEGIN:STANDARD
TZOFFSETFROM:-0500
TZOFFSETTO:-0600
TZNAME:CST
DTSTART:20231105T070000
END:STANDARD
END:VTIMEZONE
BEGIN:VEVENT
DTSTART;VALUE=DATE:20230713
DTEND;VALUE=DATE:20230714
DTSTAMP:20260422T095627
CREATED:20230629T132715Z
LAST-MODIFIED:20230629T132715Z
UID:20792-1689206400-1689292799@www.ptcondo.com
SUMMARY:Party Room reserved - Social Committee "Living History" interviews
DESCRIPTION:
URL:https://www.ptcondo.com/calendar/party-room-reserved-social-committee-living-history-interviews/
END:VEVENT
BEGIN:VEVENT
DTSTART;VALUE=DATE:20230713
DTEND;VALUE=DATE:20230714
DTSTAMP:20260422T095627
CREATED:20230713T163827Z
LAST-MODIFIED:20230713T163827Z
UID:20916-1689206400-1689292799@www.ptcondo.com
SUMMARY:Pest Control 55 and 54 - Rescheduled 4 and 3
DESCRIPTION:
URL:https://www.ptcondo.com/calendar/pest-control-55-and-54-rescheduled-4-and-3/
CATEGORIES:Exterminating
END:VEVENT
END:VCALENDAR