BEGIN:VCALENDAR
VERSION:2.0
PRODID:-//PTCondo.com - ECPv5.2.0//NONSGML v1.0//EN
CALSCALE:GREGORIAN
METHOD:PUBLISH
X-WR-CALNAME:PTCondo.com
X-ORIGINAL-URL:https://www.ptcondo.com
X-WR-CALDESC:Events for PTCondo.com
BEGIN:VTIMEZONE
TZID:America/Chicago
BEGIN:DAYLIGHT
TZOFFSETFROM:-0600
TZOFFSETTO:-0500
TZNAME:CDT
DTSTART:20230312T080000
END:DAYLIGHT
BEGIN:STANDARD
TZOFFSETFROM:-0500
TZOFFSETTO:-0600
TZNAME:CST
DTSTART:20231105T070000
END:STANDARD
END:VTIMEZONE
BEGIN:VEVENT
DTSTART;VALUE=DATE:20230711
DTEND;VALUE=DATE:20230712
DTSTAMP:20260422T095637
CREATED:20230713T163946Z
LAST-MODIFIED:20230713T163946Z
UID:20920-1689033600-1689119999@www.ptcondo.com
SUMMARY:Bed Bug Inspections 51 and 50
DESCRIPTION:
URL:https://www.ptcondo.com/calendar/bed-bug-inspections-51-and-50/
CATEGORIES:Bed Bug Inspections
END:VEVENT
END:VCALENDAR