BEGIN:VCALENDAR
VERSION:2.0
PRODID:-//PTCondo.com - ECPv5.2.0//NONSGML v1.0//EN
CALSCALE:GREGORIAN
METHOD:PUBLISH
X-WR-CALNAME:PTCondo.com
X-ORIGINAL-URL:https://www.ptcondo.com
X-WR-CALDESC:Events for PTCondo.com
BEGIN:VTIMEZONE
TZID:America/Chicago
BEGIN:DAYLIGHT
TZOFFSETFROM:-0600
TZOFFSETTO:-0500
TZNAME:CDT
DTSTART:20230312T080000
END:DAYLIGHT
BEGIN:STANDARD
TZOFFSETFROM:-0500
TZOFFSETTO:-0600
TZNAME:CST
DTSTART:20231105T070000
END:STANDARD
END:VTIMEZONE
BEGIN:VEVENT
DTSTART;TZID=America/Chicago:20230613T080000
DTEND;TZID=America/Chicago:20230613T170000
DTSTAMP:20260422T114036
CREATED:20230603T181858Z
LAST-MODIFIED:20230603T181858Z
UID:20637-1686643200-1686675600@www.ptcondo.com
SUMMARY:Scout Floors 4 and 3
DESCRIPTION:Bed bug inspections.
URL:https://www.ptcondo.com/calendar/scout-floors-4-and-3/
CATEGORIES:Bed Bug Inspections
END:VEVENT
END:VCALENDAR