BEGIN:VCALENDAR
VERSION:2.0
PRODID:-//PTCondo.com - ECPv5.2.0//NONSGML v1.0//EN
CALSCALE:GREGORIAN
METHOD:PUBLISH
X-WR-CALNAME:PTCondo.com
X-ORIGINAL-URL:https://www.ptcondo.com
X-WR-CALDESC:Events for PTCondo.com
BEGIN:VTIMEZONE
TZID:America/Chicago
BEGIN:DAYLIGHT
TZOFFSETFROM:-0600
TZOFFSETTO:-0500
TZNAME:CDT
DTSTART:20230312T080000
END:DAYLIGHT
BEGIN:STANDARD
TZOFFSETFROM:-0500
TZOFFSETTO:-0600
TZNAME:CST
DTSTART:20231105T070000
END:STANDARD
END:VTIMEZONE
BEGIN:VEVENT
DTSTART;VALUE=DATE:20230606
DTEND;VALUE=DATE:20230607
DTSTAMP:20260422T115143
CREATED:20230603T181331Z
LAST-MODIFIED:20230603T181331Z
UID:20624-1686009600-1686095999@www.ptcondo.com
SUMMARY:Elevator Reserved 9am to 1pm
DESCRIPTION:
URL:https://www.ptcondo.com/calendar/elevator-reserved-9am-to-1pm-480/
LOCATION:Service Elevator
CATEGORIES:Elevator Reservation
END:VEVENT
BEGIN:VEVENT
DTSTART;VALUE=DATE:20230606
DTEND;VALUE=DATE:20230607
DTSTAMP:20260422T115143
CREATED:20230603T181828Z
LAST-MODIFIED:20230603T181828Z
UID:20635-1686009600-1686095999@www.ptcondo.com
SUMMARY:Scout Floors 6 and 5
DESCRIPTION:Bed bug inspections.
URL:https://www.ptcondo.com/calendar/scout-floors-6-and-5/
CATEGORIES:Bed Bug Inspections
END:VEVENT
BEGIN:VEVENT
DTSTART;TZID=America/Chicago:20230606T190000
DTEND;TZID=America/Chicago:20230606T200000
DTSTAMP:20260422T115143
CREATED:20230517T164057Z
LAST-MODIFIED:20230517T164057Z
UID:20545-1686078000-1686081600@www.ptcondo.com
SUMMARY:2023 Meet The Candidates Forum
DESCRIPTION:
URL:https://www.ptcondo.com/calendar/2023-meet-the-candidates-forum/
LOCATION:2nd Floor Party Room\, 5415 N. Sheridan Rd.\, Chicago\, IL\, 60640\, United States
CATEGORIES:Party Room Reservation,Unit Owner Meeting
GEO:41.980314;-87.654441
X-APPLE-STRUCTURED-LOCATION;VALUE=URI;X-ADDRESS=2nd Floor Party Room 5415 N. Sheridan Rd. Chicago IL 60640 United States;X-APPLE-RADIUS=500;X-TITLE=5415 N. Sheridan Rd.:geo:-87.654441,41.980314
END:VEVENT
END:VCALENDAR