BEGIN:VCALENDAR
VERSION:2.0
PRODID:-//PTCondo.com - ECPv5.2.0//NONSGML v1.0//EN
CALSCALE:GREGORIAN
METHOD:PUBLISH
X-WR-CALNAME:PTCondo.com
X-ORIGINAL-URL:https://www.ptcondo.com
X-WR-CALDESC:Events for PTCondo.com
BEGIN:VTIMEZONE
TZID:America/Chicago
BEGIN:DAYLIGHT
TZOFFSETFROM:-0600
TZOFFSETTO:-0500
TZNAME:CDT
DTSTART:20230312T080000
END:DAYLIGHT
BEGIN:STANDARD
TZOFFSETFROM:-0500
TZOFFSETTO:-0600
TZNAME:CST
DTSTART:20231105T070000
END:STANDARD
END:VTIMEZONE
BEGIN:VEVENT
DTSTART;VALUE=DATE:20230417
DTEND;VALUE=DATE:20230423
DTSTAMP:20260422T145112
CREATED:20230331T213801Z
LAST-MODIFIED:20230331T213801Z
UID:20370-1681689600-1682207999@www.ptcondo.com
SUMMARY:GREEN WEEK 2023
DESCRIPTION:
URL:https://www.ptcondo.com/calendar/green-week-2023/
CATEGORIES:Community,Resident Event
END:VEVENT
BEGIN:VEVENT
DTSTART;VALUE=DATE:20230418
DTEND;VALUE=DATE:20230419
DTSTAMP:20260422T145112
CREATED:20230331T213421Z
LAST-MODIFIED:20230331T213421Z
UID:20362-1681776000-1681862399@www.ptcondo.com
SUMMARY:Scout Floors 20 & 21
DESCRIPTION:
URL:https://www.ptcondo.com/calendar/scout-floors-20-21/
CATEGORIES:Bed Bug Inspections
END:VEVENT
BEGIN:VEVENT
DTSTART;VALUE=DATE:20230418
DTEND;VALUE=DATE:20230419
DTSTAMP:20260422T145112
CREATED:20230406T153327Z
LAST-MODIFIED:20230410T183812Z
UID:20394-1681776000-1681862399@www.ptcondo.com
SUMMARY:Elevator Reserved 9am to 5pm
DESCRIPTION:
URL:https://www.ptcondo.com/calendar/elevator-reserved-9am-to-1pm-471/
LOCATION:Service Elevator
CATEGORIES:Elevator Reservation
END:VEVENT
END:VCALENDAR