BEGIN:VCALENDAR
VERSION:2.0
PRODID:-//PTCondo.com - ECPv5.2.0//NONSGML v1.0//EN
CALSCALE:GREGORIAN
METHOD:PUBLISH
X-WR-CALNAME:PTCondo.com
X-ORIGINAL-URL:https://www.ptcondo.com
X-WR-CALDESC:Events for PTCondo.com
BEGIN:VTIMEZONE
TZID:America/Chicago
BEGIN:DAYLIGHT
TZOFFSETFROM:-0600
TZOFFSETTO:-0500
TZNAME:CDT
DTSTART:20220313T080000
END:DAYLIGHT
BEGIN:STANDARD
TZOFFSETFROM:-0500
TZOFFSETTO:-0600
TZNAME:CST
DTSTART:20221106T070000
END:STANDARD
END:VTIMEZONE
BEGIN:VEVENT
DTSTART;VALUE=DATE:20221229
DTEND;VALUE=DATE:20221230
DTSTAMP:20260422T214029
CREATED:20221014T180251Z
LAST-MODIFIED:20221202T204713Z
UID:19465-1672272000-1672358399@www.ptcondo.com
SUMMARY:Exterminator 27-26
DESCRIPTION:
URL:https://www.ptcondo.com/calendar/exterminator-27-26-2/
CATEGORIES:Exterminating
END:VEVENT
BEGIN:VEVENT
DTSTART;VALUE=DATE:20221229
DTEND;VALUE=DATE:20221230
DTSTAMP:20260422T214029
CREATED:20221209T201419Z
LAST-MODIFIED:20221214T200501Z
UID:19736-1672272000-1672358399@www.ptcondo.com
SUMMARY:Elevator Reserved 9am to 5pm
DESCRIPTION:
URL:https://www.ptcondo.com/calendar/elevator-reserved-1-to-5pm-286/
LOCATION:Service Elevator
CATEGORIES:Elevator Reservation
END:VEVENT
END:VCALENDAR