BEGIN:VCALENDAR
VERSION:2.0
PRODID:-//PTCondo.com - ECPv5.2.0//NONSGML v1.0//EN
CALSCALE:GREGORIAN
METHOD:PUBLISH
X-WR-CALNAME:PTCondo.com
X-ORIGINAL-URL:https://www.ptcondo.com
X-WR-CALDESC:Events for PTCondo.com
BEGIN:VTIMEZONE
TZID:America/Chicago
BEGIN:DAYLIGHT
TZOFFSETFROM:-0600
TZOFFSETTO:-0500
TZNAME:CDT
DTSTART:20220313T080000
END:DAYLIGHT
BEGIN:STANDARD
TZOFFSETFROM:-0500
TZOFFSETTO:-0600
TZNAME:CST
DTSTART:20221106T070000
END:STANDARD
END:VTIMEZONE
BEGIN:VEVENT
DTSTART;VALUE=DATE:20221115
DTEND;VALUE=DATE:20221116
DTSTAMP:20260422T232007
CREATED:20221014T173008Z
LAST-MODIFIED:20221014T173008Z
UID:19422-1668470400-1668556799@www.ptcondo.com
SUMMARY:Scout 49-48
DESCRIPTION:
URL:https://www.ptcondo.com/calendar/scout-49-48-6/
CATEGORIES:Bed Bug Inspections
END:VEVENT
BEGIN:VEVENT
DTSTART;VALUE=DATE:20221115
DTEND;VALUE=DATE:20221116
DTSTAMP:20260422T232007
CREATED:20221014T175522Z
LAST-MODIFIED:20221014T175522Z
UID:19449-1668470400-1668556799@www.ptcondo.com
SUMMARY:Exterminator 33-32
DESCRIPTION:
URL:https://www.ptcondo.com/calendar/exterminator-33-32/
CATEGORIES:Exterminating
END:VEVENT
BEGIN:VEVENT
DTSTART;TZID=America/Chicago:20221115T190000
DTEND;TZID=America/Chicago:20221115T200000
DTSTAMP:20260422T232007
CREATED:20221014T181043Z
LAST-MODIFIED:20221014T181043Z
UID:19471-1668538800-1668542400@www.ptcondo.com
SUMMARY:Social Commission Meeting 7PM
DESCRIPTION:
URL:https://www.ptcondo.com/calendar/social-commission-meeting-7pm/
LOCATION:via Zoom
CATEGORIES:Committee Meeting
END:VEVENT
END:VCALENDAR