BEGIN:VCALENDAR
VERSION:2.0
PRODID:-//PTCondo.com - ECPv5.2.0//NONSGML v1.0//EN
CALSCALE:GREGORIAN
METHOD:PUBLISH
X-WR-CALNAME:PTCondo.com
X-ORIGINAL-URL:https://www.ptcondo.com
X-WR-CALDESC:Events for PTCondo.com
BEGIN:VTIMEZONE
TZID:America/Chicago
BEGIN:DAYLIGHT
TZOFFSETFROM:-0600
TZOFFSETTO:-0500
TZNAME:CDT
DTSTART:20220313T080000
END:DAYLIGHT
BEGIN:STANDARD
TZOFFSETFROM:-0500
TZOFFSETTO:-0600
TZNAME:CST
DTSTART:20221106T070000
END:STANDARD
END:VTIMEZONE
BEGIN:VEVENT
DTSTART;VALUE=DATE:20220823
DTEND;VALUE=DATE:20220824
DTSTAMP:20260423T041517
CREATED:20220810T145552Z
LAST-MODIFIED:20220810T145552Z
UID:19170-1661212800-1661299199@www.ptcondo.com
SUMMARY:Elevator Reserved 9am to 1pm
DESCRIPTION:
URL:https://www.ptcondo.com/calendar/elevator-reserved-9am-to-1pm-434/
LOCATION:Service Elevator
CATEGORIES:Elevator Reservation
END:VEVENT
BEGIN:VEVENT
DTSTART;TZID=America/Chicago:20220823T080000
DTEND;TZID=America/Chicago:20220823T170000
DTSTAMP:20260423T041517
CREATED:20220713T153416Z
LAST-MODIFIED:20220713T153416Z
UID:19020-1661241600-1661274000@www.ptcondo.com
SUMMARY:Scout 17-16
DESCRIPTION:
URL:https://www.ptcondo.com/calendar/scout-17-16-6/
CATEGORIES:Exterminating
END:VEVENT
END:VCALENDAR