BEGIN:VCALENDAR
VERSION:2.0
PRODID:-//PTCondo.com - ECPv5.2.0//NONSGML v1.0//EN
CALSCALE:GREGORIAN
METHOD:PUBLISH
X-WR-CALNAME:PTCondo.com
X-ORIGINAL-URL:https://www.ptcondo.com
X-WR-CALDESC:Events for PTCondo.com
BEGIN:VTIMEZONE
TZID:America/Chicago
BEGIN:DAYLIGHT
TZOFFSETFROM:-0600
TZOFFSETTO:-0500
TZNAME:CDT
DTSTART:20220313T080000
END:DAYLIGHT
BEGIN:STANDARD
TZOFFSETFROM:-0500
TZOFFSETTO:-0600
TZNAME:CST
DTSTART:20221106T070000
END:STANDARD
END:VTIMEZONE
BEGIN:VEVENT
DTSTART;VALUE=DATE:20220802
DTEND;VALUE=DATE:20220803
DTSTAMP:20260423T041712
CREATED:20220713T150822Z
LAST-MODIFIED:20220713T150938Z
UID:19004-1659398400-1659484799@www.ptcondo.com
SUMMARY:Scout 23-22
DESCRIPTION:
URL:https://www.ptcondo.com/calendar/scout-21-20-5/
CATEGORIES:Bed Bug Inspections
END:VEVENT
BEGIN:VEVENT
DTSTART;VALUE=DATE:20220802
DTEND;VALUE=DATE:20220803
DTSTAMP:20260423T041712
CREATED:20220719T182742Z
LAST-MODIFIED:20220719T182742Z
UID:19059-1659398400-1659484799@www.ptcondo.com
SUMMARY:Elevator Reserved 1 to 5pm
DESCRIPTION:
URL:https://www.ptcondo.com/calendar/elevator-reserved-1-to-5pm-270/
CATEGORIES:Elevator Reservation
END:VEVENT
BEGIN:VEVENT
DTSTART;TZID=America/Chicago:20220802T180000
DTEND;TZID=America/Chicago:20220802T180000
DTSTAMP:20260423T041712
CREATED:20220713T143701Z
LAST-MODIFIED:20220713T143701Z
UID:18991-1659463200-1659463200@www.ptcondo.com
SUMMARY:Home Improvement Commission 6pm
DESCRIPTION:
URL:https://www.ptcondo.com/calendar/home-improvement-commission-6pm-3/
LOCATION:2nd Floor Party Room\, 5415 N. Sheridan Rd.\, Chicago\, IL\, 60640\, United States
CATEGORIES:Committee Meeting,Party Room Reservation
GEO:41.980314;-87.654441
X-APPLE-STRUCTURED-LOCATION;VALUE=URI;X-ADDRESS=2nd Floor Party Room 5415 N. Sheridan Rd. Chicago IL 60640 United States;X-APPLE-RADIUS=500;X-TITLE=5415 N. Sheridan Rd.:geo:-87.654441,41.980314
END:VEVENT
END:VCALENDAR