BEGIN:VCALENDAR
VERSION:2.0
PRODID:-//PTCondo.com - ECPv5.2.0//NONSGML v1.0//EN
CALSCALE:GREGORIAN
METHOD:PUBLISH
X-WR-CALNAME:PTCondo.com
X-ORIGINAL-URL:https://www.ptcondo.com
X-WR-CALDESC:Events for PTCondo.com
BEGIN:VTIMEZONE
TZID:America/Chicago
BEGIN:DAYLIGHT
TZOFFSETFROM:-0600
TZOFFSETTO:-0500
TZNAME:CDT
DTSTART:20220313T080000
END:DAYLIGHT
BEGIN:STANDARD
TZOFFSETFROM:-0500
TZOFFSETTO:-0600
TZNAME:CST
DTSTART:20221106T070000
END:STANDARD
END:VTIMEZONE
BEGIN:VEVENT
DTSTART;VALUE=DATE:20220607
DTEND;VALUE=DATE:20220608
DTSTAMP:20260423T072150
CREATED:20220228T174012Z
LAST-MODIFIED:20220228T174012Z
UID:18377-1654560000-1654646399@www.ptcondo.com
SUMMARY:Scout 37-36
DESCRIPTION:
URL:https://www.ptcondo.com/calendar/scout-37-36-6/
CATEGORIES:Bed Bug Inspections
END:VEVENT
BEGIN:VEVENT
DTSTART;VALUE=DATE:20220607
DTEND;VALUE=DATE:20220608
DTSTAMP:20260423T072150
CREATED:20220524T180211Z
LAST-MODIFIED:20220524T180211Z
UID:18743-1654560000-1654646399@www.ptcondo.com
SUMMARY:Elevator Reserved 9am to 1pm
DESCRIPTION:
URL:https://www.ptcondo.com/calendar/elevator-reserved-9am-to-1pm-414/
LOCATION:Service Elevator
CATEGORIES:Elevator Reservation
END:VEVENT
BEGIN:VEVENT
DTSTART;TZID=America/Chicago:20220607T180000
DTEND;TZID=America/Chicago:20220607T190000
DTSTAMP:20260423T072150
CREATED:20220504T223737Z
LAST-MODIFIED:20220504T223737Z
UID:18678-1654624800-1654628400@www.ptcondo.com
SUMMARY:Home Improvement Commission 7pm
DESCRIPTION:
URL:https://www.ptcondo.com/calendar/home-improvement-commission-7pm/
LOCATION:2nd Floor Party Room\, 5415 N. Sheridan Rd.\, Chicago\, IL\, 60640\, United States
CATEGORIES:Committee Meeting,Party Room Reservation
GEO:41.980314;-87.654441
X-APPLE-STRUCTURED-LOCATION;VALUE=URI;X-ADDRESS=2nd Floor Party Room 5415 N. Sheridan Rd. Chicago IL 60640 United States;X-APPLE-RADIUS=500;X-TITLE=5415 N. Sheridan Rd.:geo:-87.654441,41.980314
END:VEVENT
END:VCALENDAR