BEGIN:VCALENDAR
VERSION:2.0
PRODID:-//PTCondo.com - ECPv5.2.0//NONSGML v1.0//EN
CALSCALE:GREGORIAN
METHOD:PUBLISH
X-WR-CALNAME:PTCondo.com
X-ORIGINAL-URL:https://www.ptcondo.com
X-WR-CALDESC:Events for PTCondo.com
BEGIN:VTIMEZONE
TZID:America/Chicago
BEGIN:DAYLIGHT
TZOFFSETFROM:-0600
TZOFFSETTO:-0500
TZNAME:CDT
DTSTART:20220313T080000
END:DAYLIGHT
BEGIN:STANDARD
TZOFFSETFROM:-0500
TZOFFSETTO:-0600
TZNAME:CST
DTSTART:20221106T070000
END:STANDARD
END:VTIMEZONE
BEGIN:VEVENT
DTSTART;TZID=America/Chicago:20220522T110000
DTEND;TZID=America/Chicago:20220522T120000
DTSTAMP:20260423T090119
CREATED:20220504T215540Z
LAST-MODIFIED:20220505T151128Z
UID:18657-1653217200-1653220800@www.ptcondo.com
SUMMARY:New Resident Welcome Meeting 11am
DESCRIPTION:
URL:https://www.ptcondo.com/calendar/new-resident-welcome-meeting-11am-2/
LOCATION:via Zoom
CATEGORIES:Committee Meeting
END:VEVENT
END:VCALENDAR