BEGIN:VCALENDAR
VERSION:2.0
PRODID:-//PTCondo.com - ECPv5.2.0//NONSGML v1.0//EN
CALSCALE:GREGORIAN
METHOD:PUBLISH
X-WR-CALNAME:PTCondo.com
X-ORIGINAL-URL:https://www.ptcondo.com
X-WR-CALDESC:Events for PTCondo.com
BEGIN:VTIMEZONE
TZID:America/Chicago
BEGIN:DAYLIGHT
TZOFFSETFROM:-0600
TZOFFSETTO:-0500
TZNAME:CDT
DTSTART:20220313T080000
END:DAYLIGHT
BEGIN:STANDARD
TZOFFSETFROM:-0500
TZOFFSETTO:-0600
TZNAME:CST
DTSTART:20221106T070000
END:STANDARD
END:VTIMEZONE
BEGIN:VEVENT
DTSTART;VALUE=DATE:20220418
DTEND;VALUE=DATE:20220419
DTSTAMP:20260423T102729
CREATED:20220317T154835Z
LAST-MODIFIED:20220317T154835Z
UID:18462-1650240000-1650326399@www.ptcondo.com
SUMMARY:Elevator Reserved 1 to 5pm
DESCRIPTION:
URL:https://www.ptcondo.com/calendar/elevator-reserved-1-to-5pm-254/
LOCATION:Service Elevator
CATEGORIES:Elevator Reservation
END:VEVENT
BEGIN:VEVENT
DTSTART;TZID=America/Chicago:20220418T080000
DTEND;TZID=America/Chicago:20220423T163000
DTSTAMP:20260423T102729
CREATED:20220325T162534Z
LAST-MODIFIED:20220325T162630Z
UID:18508-1650268800-1650731400@www.ptcondo.com
SUMMARY:GREEN WEEK - Click For Activities Calendar
DESCRIPTION:
URL:https://www.ptcondo.com/calendar/green-week-click-for-activities-calendar/
CATEGORIES:Community,Neighborhood Event,Resident Event,Social Event
END:VEVENT
END:VCALENDAR