BEGIN:VCALENDAR
VERSION:2.0
PRODID:-//PTCondo.com - ECPv5.2.0//NONSGML v1.0//EN
CALSCALE:GREGORIAN
METHOD:PUBLISH
X-WR-CALNAME:PTCondo.com
X-ORIGINAL-URL:https://www.ptcondo.com
X-WR-CALDESC:Events for PTCondo.com
BEGIN:VTIMEZONE
TZID:America/Chicago
BEGIN:DAYLIGHT
TZOFFSETFROM:-0600
TZOFFSETTO:-0500
TZNAME:CDT
DTSTART:20220313T080000
END:DAYLIGHT
BEGIN:STANDARD
TZOFFSETFROM:-0500
TZOFFSETTO:-0600
TZNAME:CST
DTSTART:20221106T070000
END:STANDARD
END:VTIMEZONE
BEGIN:VEVENT
DTSTART;VALUE=DATE:20220331
DTEND;VALUE=DATE:20220401
DTSTAMP:20260423T102657
CREATED:20220114T201611Z
LAST-MODIFIED:20220228T172635Z
UID:18183-1648684800-1648771199@www.ptcondo.com
SUMMARY:Exterminator 15-14
DESCRIPTION:
URL:https://www.ptcondo.com/calendar/exterminator-15-4/
CATEGORIES:Exterminating
END:VEVENT
BEGIN:VEVENT
DTSTART;VALUE=DATE:20220331
DTEND;VALUE=DATE:20220401
DTSTAMP:20260423T102657
CREATED:20220310T145629Z
LAST-MODIFIED:20220310T145629Z
UID:18408-1648684800-1648771199@www.ptcondo.com
SUMMARY:Elevator Reserved 9am to 1pm
DESCRIPTION:
URL:https://www.ptcondo.com/calendar/elevator-reserved-9am-to-1pm-400/
LOCATION:Service Elevator
CATEGORIES:Elevator Reservation
END:VEVENT
BEGIN:VEVENT
DTSTART;TZID=America/Chicago:20220331T190000
DTEND;TZID=America/Chicago:20220331T200000
DTSTAMP:20260423T102657
CREATED:20220228T170419Z
LAST-MODIFIED:20220228T171357Z
UID:18343-1648753200-1648756800@www.ptcondo.com
SUMMARY:Gather To Talk - The End Of Life
DESCRIPTION:Via ZOOM
URL:https://www.ptcondo.com/calendar/gather-to-talk-the-end-of-life/
LOCATION:via Zoom
CATEGORIES:Social Event
END:VEVENT
BEGIN:VEVENT
DTSTART;TZID=America/Chicago:20220331T190000
DTEND;TZID=America/Chicago:20220331T200000
DTSTAMP:20260423T102657
CREATED:20220325T155131Z
LAST-MODIFIED:20220325T155131Z
UID:18505-1648753200-1648756800@www.ptcondo.com
SUMMARY:Gather To Talk 7pm
DESCRIPTION:
URL:https://www.ptcondo.com/calendar/gather-to-talk-7pm/
LOCATION:2nd Floor Party Room\, 5415 N. Sheridan Rd.\, Chicago\, IL\, 60640\, United States
CATEGORIES:Social Event
GEO:41.980314;-87.654441
X-APPLE-STRUCTURED-LOCATION;VALUE=URI;X-ADDRESS=2nd Floor Party Room 5415 N. Sheridan Rd. Chicago IL 60640 United States;X-APPLE-RADIUS=500;X-TITLE=5415 N. Sheridan Rd.:geo:-87.654441,41.980314
END:VEVENT
END:VCALENDAR