BEGIN:VCALENDAR
VERSION:2.0
PRODID:-//PTCondo.com - ECPv5.2.0//NONSGML v1.0//EN
CALSCALE:GREGORIAN
METHOD:PUBLISH
X-WR-CALNAME:PTCondo.com
X-ORIGINAL-URL:https://www.ptcondo.com
X-WR-CALDESC:Events for PTCondo.com
BEGIN:VTIMEZONE
TZID:America/Chicago
BEGIN:DAYLIGHT
TZOFFSETFROM:-0600
TZOFFSETTO:-0500
TZNAME:CDT
DTSTART:20210314T080000
END:DAYLIGHT
BEGIN:STANDARD
TZOFFSETFROM:-0500
TZOFFSETTO:-0600
TZNAME:CST
DTSTART:20211107T070000
END:STANDARD
END:VTIMEZONE
BEGIN:VEVENT
DTSTART;VALUE=DATE:20211124
DTEND;VALUE=DATE:20211125
DTSTAMP:20260423T183204
CREATED:20211012T204017Z
LAST-MODIFIED:20211012T204017Z
UID:17611-1637712000-1637798399@www.ptcondo.com
SUMMARY:Office Closed 3pm
DESCRIPTION:Thanksgiving Holiday
URL:https://www.ptcondo.com/calendar/office-closed-3pm-5/
LOCATION:Management Office
CATEGORIES:Office Hours
END:VEVENT
BEGIN:VEVENT
DTSTART;VALUE=DATE:20211124
DTEND;VALUE=DATE:20211125
DTSTAMP:20260423T183204
CREATED:20211021T182043Z
LAST-MODIFIED:20211021T182043Z
UID:17680-1637712000-1637798399@www.ptcondo.com
SUMMARY:Exterminator 36
DESCRIPTION:
URL:https://www.ptcondo.com/calendar/exterminator-36-3/
CATEGORIES:Exterminating
END:VEVENT
BEGIN:VEVENT
DTSTART;VALUE=DATE:20211124
DTEND;VALUE=DATE:20211125
DTSTAMP:20260423T183204
CREATED:20211022T174122Z
LAST-MODIFIED:20211115T155807Z
UID:17683-1637712000-1637798399@www.ptcondo.com
SUMMARY:Elevator Reserved 1pm to 5pm
DESCRIPTION:
URL:https://www.ptcondo.com/calendar/elevator-reserved-1pm-to-5pm-80/
LOCATION:Service Elevator
CATEGORIES:Elevator Reservation
END:VEVENT
END:VCALENDAR