BEGIN:VCALENDAR
VERSION:2.0
PRODID:-//PTCondo.com - ECPv5.2.0//NONSGML v1.0//EN
CALSCALE:GREGORIAN
METHOD:PUBLISH
X-WR-CALNAME:PTCondo.com
X-ORIGINAL-URL:https://www.ptcondo.com
X-WR-CALDESC:Events for PTCondo.com
BEGIN:VTIMEZONE
TZID:America/Chicago
BEGIN:DAYLIGHT
TZOFFSETFROM:-0600
TZOFFSETTO:-0500
TZNAME:CDT
DTSTART:20210314T080000
END:DAYLIGHT
BEGIN:STANDARD
TZOFFSETFROM:-0500
TZOFFSETTO:-0600
TZNAME:CST
DTSTART:20211107T070000
END:STANDARD
END:VTIMEZONE
BEGIN:VEVENT
DTSTART;VALUE=DATE:20210820
DTEND;VALUE=DATE:20210821
DTSTAMP:20260424T003631
CREATED:20210719T174852Z
LAST-MODIFIED:20210719T174852Z
UID:16981-1629417600-1629503999@www.ptcondo.com
SUMMARY:Elevator Reserved 1 to 5pm
DESCRIPTION:
URL:https://www.ptcondo.com/calendar/elevator-reserved-1-to-5pm-231/
LOCATION:Service Elevator
CATEGORIES:Elevator Reservation
END:VEVENT
BEGIN:VEVENT
DTSTART;TZID=America/Chicago:20210820T080000
DTEND;TZID=America/Chicago:20210820T170000
DTSTAMP:20260424T003631
CREATED:20210602T195425Z
LAST-MODIFIED:20210602T195425Z
UID:16658-1629446400-1629478800@www.ptcondo.com
SUMMARY:Exterminator 50
DESCRIPTION:
URL:https://www.ptcondo.com/calendar/exterminator-50-2/
CATEGORIES:Exterminating
END:VEVENT
END:VCALENDAR