BEGIN:VCALENDAR
VERSION:2.0
PRODID:-//PTCondo.com - ECPv5.2.0//NONSGML v1.0//EN
CALSCALE:GREGORIAN
METHOD:PUBLISH
X-WR-CALNAME:PTCondo.com
X-ORIGINAL-URL:https://www.ptcondo.com
X-WR-CALDESC:Events for PTCondo.com
BEGIN:VTIMEZONE
TZID:America/Chicago
BEGIN:DAYLIGHT
TZOFFSETFROM:-0600
TZOFFSETTO:-0500
TZNAME:CDT
DTSTART:20210314T080000
END:DAYLIGHT
BEGIN:STANDARD
TZOFFSETFROM:-0500
TZOFFSETTO:-0600
TZNAME:CST
DTSTART:20211107T070000
END:STANDARD
END:VTIMEZONE
BEGIN:VEVENT
DTSTART;TZID=America/Chicago:20210817T080000
DTEND;TZID=America/Chicago:20210817T170000
DTSTAMP:20260424T003519
CREATED:20210602T195822Z
LAST-MODIFIED:20210602T195822Z
UID:16665-1629187200-1629219600@www.ptcondo.com
SUMMARY:Scout 17 and 16
DESCRIPTION:
URL:https://www.ptcondo.com/calendar/scout-17-and-16-3/
CATEGORIES:Bed Bug Inspections
END:VEVENT
END:VCALENDAR