BEGIN:VCALENDAR
VERSION:2.0
PRODID:-//PTCondo.com - ECPv5.2.0//NONSGML v1.0//EN
CALSCALE:GREGORIAN
METHOD:PUBLISH
X-WR-CALNAME:PTCondo.com
X-ORIGINAL-URL:https://www.ptcondo.com
X-WR-CALDESC:Events for PTCondo.com
BEGIN:VTIMEZONE
TZID:America/Chicago
BEGIN:DAYLIGHT
TZOFFSETFROM:-0600
TZOFFSETTO:-0500
TZNAME:CDT
DTSTART:20210314T080000
END:DAYLIGHT
BEGIN:STANDARD
TZOFFSETFROM:-0500
TZOFFSETTO:-0600
TZNAME:CST
DTSTART:20211107T070000
END:STANDARD
END:VTIMEZONE
BEGIN:VEVENT
DTSTART;VALUE=DATE:20210614
DTEND;VALUE=DATE:20210615
DTSTAMP:20260424T031756
CREATED:20210519T170018Z
LAST-MODIFIED:20210519T170018Z
UID:16566-1623628800-1623715199@www.ptcondo.com
SUMMARY:Elevator Reserved 9am to 1pm
DESCRIPTION:
URL:https://www.ptcondo.com/calendar/elevator-reserved-9am-to-1pm-345/
LOCATION:Service Elevator
CATEGORIES:Elevator Reservation
END:VEVENT
BEGIN:VEVENT
DTSTART;TZID=America/Chicago:20210614T193000
DTEND;TZID=America/Chicago:20210614T200000
DTSTAMP:20260424T031756
CREATED:20210421T173003Z
LAST-MODIFIED:20210421T173038Z
UID:16448-1623699000-1623700800@www.ptcondo.com
SUMMARY:2021 Annual Meeting 7:30PM
DESCRIPTION:
URL:https://www.ptcondo.com/calendar/2021-annual-meeting/
LOCATION:2nd Floor Party Room\, 5415 N. Sheridan Rd.\, Chicago\, IL\, 60640\, United States
CATEGORIES:Unit Owner Meeting
GEO:41.980314;-87.654441
X-APPLE-STRUCTURED-LOCATION;VALUE=URI;X-ADDRESS=2nd Floor Party Room 5415 N. Sheridan Rd. Chicago IL 60640 United States;X-APPLE-RADIUS=500;X-TITLE=5415 N. Sheridan Rd.:geo:-87.654441,41.980314
END:VEVENT
BEGIN:VEVENT
DTSTART;TZID=America/Chicago:20210614T200000
DTEND;TZID=America/Chicago:20210614T210000
DTSTAMP:20260424T031756
CREATED:20210421T173317Z
LAST-MODIFIED:20210421T173331Z
UID:16452-1623700800-1623704400@www.ptcondo.com
SUMMARY:June Board Meeting (to follow Annual Meeting)
DESCRIPTION:
URL:https://www.ptcondo.com/calendar/june-board-meeting-to-follow-annual-meeting/
LOCATION:via Zoom
CATEGORIES:Board Meetings
END:VEVENT
END:VCALENDAR